Workbook

Sheet Summary
A1: By Category
A2: Category | B2: Units | C2: Retail Value
A3: Shoes | B3: =SUMIFS(Master!$I$2:$I$3296,Master!$D$2:$D$3296,$A3) -> 4515 | C3: =SUMIFS(Master!$K$2:$K$3296,Master!$D$2:$D$3296,$A3) -> 408897.28
A4: Clothing | B4: =SUMIFS(Master!$I$2:$I$3296,Master!$D$2:$D$3296,$A4) -> 1119 | C4: =SUMIFS(Master!$K$2:$K$3296,Master!$D$2:$D$3296,$A4) -> 91580.92
A5: Bags | B5: =SUMIFS(Master!$I$2:$I$3296,Master!$D$2:$D$3296,$A5) -> 35 | C5: =SUMIFS(Master!$K$2:$K$3296,Master!$D$2:$D$3296,$A5) -> 4191.44
A6: Accessories | B6: =SUMIFS(Master!$I$2:$I$3296,Master!$D$2:$D$3296,$A6) -> 22 | C6: =SUMIFS(Master!$K$2:$K$3296,Master!$D$2:$D$3296,$A6) -> 1028.55
A7: Jewelry | B7: =SUMIFS(Master!$I$2:$I$3296,Master!$D$2:$D$3296,$A7) -> 9 | C7: =SUMIFS(Master!$K$2:$K$3296,Master!$D$2:$D$3296,$A7) -> 654
A8: Eyewear | B8: =SUMIFS(Master!$I$2:$I$3296,Master!$D$2:$D$3296,$A8) -> 3 | C8: =SUMIFS(Master!$K$2:$K$3296,Master!$D$2:$D$3296,$A8) -> 489
A9: Watches | B9: =SUMIFS(Master!$I$2:$I$3296,Master!$D$2:$D$3296,$A9) -> 1 | C9: =SUMIFS(Master!$K$2:$K$3296,Master!$D$2:$D$3296,$A9) -> 150
A10: Total | B10: =SUM(B3:B9) -> 5704 | C10: =SUM(C3:C9) -> 506991.19
A12: Top 10 Subcategories
A13: Subcategory | B13: Units | C13: Retail Value
A14: Sneakers & Athletic Shoes | B14: =SUMIFS(Master!$I$2:$I$3296,Master!$E$2:$E$3296,$A14) -> 1601 | C14: =SUMIFS(Master!$K$2:$K$3296,Master!$E$2:$E$3296,$A14) -> 120976.01
A15: Heels | B15: =SUMIFS(Master!$I$2:$I$3296,Master!$E$2:$E$3296,$A15) -> 949 | C15: =SUMIFS(Master!$K$2:$K$3296,Master!$E$2:$E$3296,$A15) -> 102335.96
A16: Sandals | B16: =SUMIFS(Master!$I$2:$I$3296,Master!$E$2:$E$3296,$A16) -> 1216 | C16: =SUMIFS(Master!$K$2:$K$3296,Master!$E$2:$E$3296,$A16) -> 98595.95
A17: Boots | B17: =SUMIFS(Master!$I$2:$I$3296,Master!$E$2:$E$3296,$A17) -> 187 | C17: =SUMIFS(Master!$K$2:$K$3296,Master!$E$2:$E$3296,$A17) -> 32702.77
A18: Loafers | B18: =SUMIFS(Master!$I$2:$I$3296,Master!$E$2:$E$3296,$A18) -> 174 | C18: =SUMIFS(Master!$K$2:$K$3296,Master!$E$2:$E$3296,$A18) -> 19974.46
A19: Dresses | B19: =SUMIFS(Master!$I$2:$I$3296,Master!$E$2:$E$3296,$A19) -> 128 | C19: =SUMIFS(Master!$K$2:$K$3296,Master!$E$2:$E$3296,$A19) -> 16430
A20: Flats | B20: =SUMIFS(Master!$I$2:$I$3296,Master!$E$2:$E$3296,$A20) -> 176 | C20: =SUMIFS(Master!$K$2:$K$3296,Master!$E$2:$E$3296,$A20) -> 16486.75
A21: Jeans | B21: =SUMIFS(Master!$I$2:$I$3296,Master!$E$2:$E$3296,$A21) -> 116 | C21: =SUMIFS(Master!$K$2:$K$3296,Master!$E$2:$E$3296,$A21) -> 15047.85
A22: Swimwear | B22: =SUMIFS(Master!$I$2:$I$3296,Master!$E$2:$E$3296,$A22) -> 143 | C22: =SUMIFS(Master!$K$2:$K$3296,Master!$E$2:$E$3296,$A22) -> 12284
A23: Shirts & Tops | B23: =SUMIFS(Master!$I$2:$I$3296,Master!$E$2:$E$3296,$A23) -> 212 | C23: =SUMIFS(Master!$K$2:$K$3296,Master!$E$2:$E$3296,$A23) -> 11266.83
A25: Top 15 Brands
A26: Brand | B26: Units | C26: Retail Value
A27: Aerosoles | B27: =SUMIFS(Master!$I$2:$I$3296,Master!$F$2:$F$3296,$A27) -> 148 | C27: =SUMIFS(Master!$K$2:$K$3296,Master!$F$2:$F$3296,$A27) -> 19780
A28: Sam Edelman | B28: =SUMIFS(Master!$I$2:$I$3296,Master!$F$2:$F$3296,$A28) -> 105 | C28: =SUMIFS(Master!$K$2:$K$3296,Master!$F$2:$F$3296,$A28) -> 15700
A29: Steve Madden | B29: =SUMIFS(Master!$I$2:$I$3296,Master!$F$2:$F$3296,$A29) -> 168 | C29: =SUMIFS(Master!$K$2:$K$3296,Master!$F$2:$F$3296,$A29) -> 15651.21
A30: SOREL | B30: =SUMIFS(Master!$I$2:$I$3296,Master!$F$2:$F$3296,$A30) -> 134 | C30: =SUMIFS(Master!$K$2:$K$3296,Master!$F$2:$F$3296,$A30) -> 14945
A31: Naturalizer | B31: =SUMIFS(Master!$I$2:$I$3296,Master!$F$2:$F$3296,$A31) -> 120 | C31: =SUMIFS(Master!$K$2:$K$3296,Master!$F$2:$F$3296,$A31) -> 14136.89
A32: Rockport | B32: =SUMIFS(Master!$I$2:$I$3296,Master!$F$2:$F$3296,$A32) -> 124 | C32: =SUMIFS(Master!$K$2:$K$3296,Master!$F$2:$F$3296,$A32) -> 14522.8
A33: adidas Kids | B33: =SUMIFS(Master!$I$2:$I$3296,Master!$F$2:$F$3296,$A33) -> 207 | C33: =SUMIFS(Master!$K$2:$K$3296,Master!$F$2:$F$3296,$A33) -> 12244
A34: Lucky Brand | B34: =SUMIFS(Master!$I$2:$I$3296,Master!$F$2:$F$3296,$A34) -> 116 | C34: =SUMIFS(Master!$K$2:$K$3296,Master!$F$2:$F$3296,$A34) -> 10484.5
A35: New Balance Kids | B35: =SUMIFS(Master!$I$2:$I$3296,Master!$F$2:$F$3296,$A35) -> 172 | C35: =SUMIFS(Master!$K$2:$K$3296,Master!$F$2:$F$3296,$A35) -> 10117.93
A36: SKECHERS | B36: =SUMIFS(Master!$I$2:$I$3296,Master!$F$2:$F$3296,$A36) -> 171 | C36: =SUMIFS(Master!$K$2:$K$3296,Master!$F$2:$F$3296,$A36) -> 9776.84
A37: Blowfish Malibu | B37: =SUMIFS(Master!$I$2:$I$3296,Master!$F$2:$F$3296,$A37) -> 125 | C37: =SUMIFS(Master!$K$2:$K$3296,Master!$F$2:$F$3296,$A37) -> 9398.75
A38: LifeStride | B38: =SUMIFS(Master!$I$2:$I$3296,Master!$F$2:$F$3296,$A38) -> 119 | C38: =SUMIFS(Master!$K$2:$K$3296,Master!$F$2:$F$3296,$A38) -> 8803.95
... A41: Anne Klein | B41: =SUMIFS(Master!$I$2:$I$3296,Master!$F$2:$F$3296,$A41) -> 82 | C41: =SUMIFS(Master!$K$2:$K$3296,Master!$F$2:$F$3296,$A41) -> 6925

Sheet Master
A1: Item ID | B1: UPC | C1: Description | D1: Category | E1: Subcategory | F1: Brand | G1: Size | H1: Color | I1: Qty | J1: MSRP | K1: TTL MSRP
A2: B07TNX4D3S | B2: 612025013349 | C2: Stuart Weitzman The 5050 Boot Black Nappa/Stretch Gabardine 4.5 M | D2: Shoes | E2: Boots | F2: Stuart Weitzman | G2: 4.5 | H2: Black Nappa/Stretch Gabardine | I2: 2 | J2: 795 | K2: =I2*J2 -> 1590
A3: B0CCMHMP5Z | B3: 800558152288 | C3: La Canadienne Goup Black Leather 9 M (B) | D3: Shoes | E3: Boots | F3: La Canadienne | G3: 9 | H3: Black Leather | I3: 1 | J3: 635 | K3: =I3*J3 -> 635
A4: B0GHB1RS9R | B4: 8445433747696 | C4: Magnanni Men's Raulo Tabaco 13 Medium | D4: Shoes | E4: Loafers | F4: Magnanni | G4: 13 | H4: Tabaco | I4: 1 | J4: 625 | K4: =I4*J4 -> 625
A5: B0GP95G4V3 | B5: 199689252067 | C5: Stuart Weitzman Women's Dayna Platform Slide Walnut 6 Medium | D5: Shoes | E5: Heels | F5: Stuart Weitzman | G5: 6 | H5: Walnut | I5: 1 | J5: 550 | K5: =I5*J5 -> 550
A6: B0GP69LJJL | B6: 199689098795 | C6: Stuart Weitzman Women's Babette Mary Jane 85 Linen 8 Medium | D6: Shoes | E6: Heels | F6: Stuart Weitzman | G6: 8 | H6: Linen | I6: 1 | J6: 525 | K6: =I6*J6 -> 525
A7: B0GNB4BGVM | B7: 198684653848 | C7: Stuart Weitzman Womens Bareitall Slides 85 Boho Tan 8.5 Medium | D7: Shoes | E7: Heels | F7: Stuart Weitzman | G7: 8.5 | H7: Boho Tan | I7: 1 | J7: 495 | K7: =I7*J7 -> 495
A8: B07RSZ3PJB | B8: 8052705902679 | C8: Zamberlan 5020 Extinguisher II WLF Black EU 45 (Men's 10.5) D (M) | D8: Shoes | E8: Hiking | F8: Zamberlan | G8: EU 45 (Men's 10.5) | H8: Black | I8: 1 | J8: 450 | K8: =I8*J8 -> 450
A9: B00EL6S8VM | B9: 612025263362 | C9: Stuart Weitzman Gladiator Black Nappa Leather 8 W | D9: Shoes | E9: Sandals | F9: Stuart Weitzman | G9: 8 | H9: Black Nappa Leather | I9: 1 | J9: 445 | K9: =I9*J9 -> 445
A10: B0B7NMRRBD | B10: 196134089377 | C10: Volcom Longo GORE-TEX Jacket Black XS | D10: Clothing | E10: Coats & Outerwear | F10: Volcom Snow | G10: XS | H10: Black | I10: 1 | J10: 430 | K10: =I10*J10 -> 430
A11: B07W81G1JD | B11: 888242924366 | C11: Barbour Barbour Beadnell Wax Jacket Sage 16 | D11: Clothing | E11: Coats & Outerwear | F11: Barbour | G11: 16 | H11: Sage | I11: 1 | J11: 415 | K11: =I11*J11 -> 415
A12: B0CS3YKQTK | B12: 194655465250 | C12: Bruno Magli Mens Maioco Penny Black 8.5 Wide | D12: Shoes | E12: Loafers | F12: Bruno Magli | G12: EU 41.5 (US Men's 8.5) | H12: Black | I12: 1 | J12: 395 | K12: =I12*J12 -> 395
A13: B0DQP2MN9J | B13: 198535614493 | C13: Veronica Beard Womens Sylvie 75 Wheat Beige Leather 11 Medium | D13: Shoes | E13: Heels | F13: Veronica Beard | G13: 11 | H13: Wheat Beige Leather | I13: 1 | J13: 395 | K13: =I13*J13 -> 395
... A21: B0G4F8ZM22 | B21: 5.05476E+12 | C21: LK Bennett Women's Sally Square Toe Courts, Black, 8 Medium | D21: Shoes | E21: Heels | F21: LK Bennett | G21: EU 38 (US Women's 8) | H21: Black | I21: 1 | J21: 350 | K21: =I21*J21 -> 350
A22: B0DSGHBT48 | C22: Kate Spade New York Womens Liv Crossbody Bag, Cavern Clay, One size | D22: Bags | E22: Handbags | F22: Kate Spade New York | G22: One Size | H22: Cavern Clay | I22: 1 | J22: 348 | K22: =I22*J22 -> 348
A23: B0BL35MVL6 | B23: 1.96597E+11 | C23: Joie Courtney Navy Blazer Multi LG (US 12-14) | D23: Clothing | E23: Dresses | F23: Joie | G23: LG (US 12-14) | H23: Navy Blazer Multi | I23: 1 | J23: 348 | K23: =I23*J23 -> 348
A24: B0BC1QNXN1 | B24: 7.34001E+12 | C24: Swedish Hasbeens Fluff Clog Nature EU 37 (US Women's 7) B (M) | D24: Shoes | E24: Clogs | F24: Swedish Hasbeens | G24: EU 37 (US Women's 7) | H24: Nature | I24: 1 | J24: 340 | K24: =I24*J24 -> 340
A25: B0DJHHML11 | B25: 5063320383685 | C25: AllSaints Womens Antonia Cardigan, Black, Large | D25: Clothing | E25: Sweaters | F25: AllSaints | G25: LG | H25: Black | I25: 1 | J25: 329 | K25: =I25*J25 -> 329
A26: B0G6GJT5MM | B26: 6.04599E+11 | C26: HOBO, Women's, Sheila Medium Satchel, Brown Sugar, One Size | D26: Bags | E26: Handbags | F26: HOBO | G26: One Size | H26: Brown Sugar | I26: 1 | J26: 328 | K26: =I26*J26 -> 328
A27: B0DVY8QBV9 | B27: 197865353140 | C27: Tory Burch Women's Double T Buckle Heel Sandals 85 mm Shiny Silver 10 Medium | D27: Shoes | E27: Heels | F27: Tory Burch | G27: 10 | H27: Shiny Silver | I27: 1 | J27: 325 | K27: =I27*J27 -> 325
A28: B0C9DNQZT9 | B28: 195171721585 | C28: Allen Edmonds Oliver Stretch Lace Slip-On Sneaker White 10.5 D (M) | D28: Shoes | E28: Sneakers & Athletic Shoes | F28: Allen Edmonds | G28: 10.5 | H28: White | I28: 1 | J28: 325 | K28: =I28*J28 -> 325
A29: B0BGZLXHK6 | B29: 8.05152E+12 | C29: See by Chloe Glyn Espadrille Wedge Light Gold 1 EU 41 (US Women's 11) M | D29: Shoes | E29: Heels | F29: See by Chloe | G29: EU 41 (US Women's 11) | H29: Light Gold 1 | I29: 1 | J29: 325 | K29: =I29*J29 -> 325
A30: B0DF36P552 | B30: 196134778028 | C30: Volcom Men's Nightbreaker 20K Jacket, Grey, Small | D30: Clothing | E30: Coats & Outerwear | F30: Volcom Snow | G30: SM | H30: Grey | I30: 1 | J30: 320 | K30: =I30*J30 -> 320
A31: B0FX378YXG | B31: 603429093433 | C31: Maui Jim, Unisex, Aliali, Matte Dark Havana/Hcl Bronze Polarized, Large | D31: Eyewear | E31: Sunglasses | F31: Maui Jim | G31: One Size | H31: Matte Dark Havana/Hcl Bronze Polarized | I31: 1 | J31: 309 | K31: =I31*J31 -> 309
A32: B0DZ8H6FR5 | B32: 197865458760 | C32: Tory Burch, Women, The Boaty, New Navy/Tan, 10, Medium | D32: Shoes | E32: Boat Shoes | F32: Tory Burch | G32: 10 | H32: New Navy/Tan | I32: 1 | J32: 300 | K32: =I32*J32 -> 300
A33: B09BGTQLQ8 | B33: 736714752347 | C33: Allen Edmonds Courtside Black 10 D (M) | D33: Shoes | E33: Sneakers & Athletic Shoes | F33: Allen Edmonds | G33: 10 | H33: Black | I33: 1 | J33: 300 | K33: =I33*J33 -> 300
A34: B0F2GW9JNV | B34: 191422575617 | C34: Rebecca Minkoff Womens Crosby Bucket Vintage/Black One Size One Size | D34: Bags | E34: Handbags | F34: Rebecca Minkoff | G34: One Size | H34: Vintage/Black | I34: 1 | J34: 298 | K34: =I34*J34 -> 298
... A85: B0GCJ5PTFY | B85: 1.99153E+11 | C85: Lauren Ralph Lauren Womens Anorak Contrast Hood White SM One Size | D85: Clothing | E85: Coats & Outerwear | F85: Lauren Ralph Lauren | G85: SM | H85: White | I85: 1 | J85: 240 | K85: =I85*J85 -> 240
A86: B06XGC415B | C86: UGG Bailey Bow Tall II Black 8 B (M) | D86: Shoes | E86: Boots | F86: UGG | G86: 8 | H86: Black | I86: 1 | J86: 239.95 | K86: =I86*J86 -> 239.95
A87: B09QKTP3VN | B87: 191993566656 | C87: Mephisto Rebeca Perf Light Grey Bucksoft EU 37 (US Women's 7) B (M) | D87: Shoes | E87: Sneakers & Athletic Shoes | F87: Mephisto | G87: EU 37 (US Women's 7) | H87: Light Grey Bucksoft | I87: 1 | J87: 239 | K87: =I87*J87 -> 239
A88: B0D84Z6Q1G | B88: 196299542915 | C88: Paige Women's Claudine Raw Hem Amalie 28 | D88: Clothing | E88: Jeans | F88: Paige | G88: 28 | H88: Amalie | I88: 1 | J88: 239 | K88: =I88*J88 -> 239
A89: B0BMG5D5NK | B89: 885383284311 | C89: Badgley Mischka Remi Nude 9 M | D89: Shoes | E89: Heels | F89: Badgley Mischka | G89: 9 | H89: Nude | I89: 1 | J89: 235 | K89: =I89*J89 -> 235
A90: B08G9N68X1 | B90: 885383197666 | C90: Badgley Mischka Remi Silver 7 M | D90: Shoes | E90: Heels | F90: Badgley Mischka | G90: 7 | H90: Silver | I90: 1 | J90: 235 | K90: =I90*J90 -> 235
A91: B0GK2W8QFR | B91: 885383836626 | C91: Badgley Mischka Women Yena White Satin 9 Medium | D91: Shoes | E91: Heels | F91: Badgley Mischka | G91: 9 | H91: White Satin | I91: 1 | J91: 235 | K91: =I91*J91 -> 235
A92: B0G233G55T | B92: 6.51458E+11 | C92: Bed Stu Women Perfect Nectar Lux 7 Medium | D92: Shoes | E92: Sandals | F92: Bed Stu | G92: 7 | H92: Nectar Lux | I92: 1 | J92: 235 | K92: =I92*J92 -> 235
A93: B01MFAKG3L | B93: 728815441527 | C93: SAS Side Gore Slip On Comfort Loafer | D93: Shoes | E93: Shoes (unspecified) | F93: SAS | G93: 10.5 Narrow | H93: Black | I93: 1 | J93: 234.95 | K93: =I93*J93 -> 234.95
A94: B09F67QXTW | B94: 191837262775 | C94: XSCAPE Short Scuba Off The Shoulder Dress with Ruffle Midnight 6 | D94: Clothing | E94: Dresses | F94: XSCAPE | G94: 6 | H94: Midnight | I94: 1 | J94: 229 | K94: =I94*J94 -> 229
A95: B09F67K9RN | B95: 191837262768 | C95: XSCAPE Short Scuba Off The Shoulder Dress with Ruffle Midnight 4 | D95: Clothing | E95: Dresses | F95: XSCAPE | G95: 4 | H95: Midnight | I95: 1 | J95: 229 | K95: =I95*J95 -> 229
A96: B091V7VC9H | B96: 190069654266 | C96: Blondo Sierra Waterproof Black 6 M | D96: Shoes | E96: Boots | F96: Blondo | G96: 6 | H96: Black | I96: 1 | J96: 229 | K96: =I96*J96 -> 229
A97: B0B7RJ7LT2 | C97: 7 For All Mankind Megaflare in Sunbeam Sunbeam 30 | D97: Clothing | E97: Jeans | F97: 7 For All Mankind | G97: 30 | H97: Sunbeam | I97: 1 | J97: 228 | K97: =I97*J97 -> 228
A98: B0GTZV3X52 | B98: 196521913551 | C98: Johnny Was Womens Seamed Knit Dress - Azova Black MD One Size | D98: Clothing | E98: Dresses | F98: Johnny Was | G98: MD | H98: Black | I98: 2 | J98: 228 | K98: =I98*J98 -> 456
A99: B0GNTBSNHY | B99: 199766166546 | C99: Free People Womens Mirella Set Ivory Large | D99: Clothing | E99: Dresses | F99: Free People | G99: LG (Women's 12-14) | H99: Ivory | I99: 1 | J99: 228 | K99: =I99*J99 -> 228
A100: B0GNT93MJS | B100: 199766166553 | C100: Free People Womens Mirella Set Ivory X-Large | D100: Clothing | E100: Dresses | F100: Free People | G100: XL (Women's 16) | H100: Ivory | I100: 1 | J100: 228 | K100: =I100*J100 -> 228
A101: B0G6FWHGPB | C101: HOBO, Women's, Carmen Sling, Black, One Size | D101: Bags | E101: Lumbar Packs | F101: HOBO | G101: One Size | H101: Black 1 | I101: 1 | J101: 228 | K101: =I101*J101 -> 228
A102: B0BLHXLZC4 | B102: 1.96387E+11 | C102: Donald Pliner, Women's, Emilia, Gold, 7, Medium | D102: Shoes | E102: Sandals | F102: Donald Pliner | G102: 7 | H102: Gold | I102: 2 | J102: 228 | K102: =I102*J102 -> 456
A103: B0BVWRQ1VW | B103: 885383494581 | C103: Badgley Mischka Ivanka Silver 6.5 M | D103: Shoes | E103: Heels | F103: Badgley Mischka | G103: 6.5 | H103: Silver | I103: 1 | J103: 225 | K103: =I103*J103 -> 225
A104: B0H6YGQFYL | B104: 194950825889 | C104: Marc Joseph New York Mens, Central Park Buckle Loafers, Cafe Croco Leather, 14 Wide | D104: Shoes | E104: Loafers | F104: Marc Joseph New York | G104: 14 | H104: Cafe Croco Leather | I104: 1 | J104: 225 | K104: =I104*J104 -> 225
A105: B0GDS8K43Z | B105: 194950370457 | C105: Marc Joseph New York Mens Wall Street Black Croco 10 M | D105: Shoes | E105: Loafers | F105: Marc Joseph New York | G105: 10 | H105: Black Croco | I105: 1 | J105: 225 | K105: =I105*J105 -> 225
A106: B0FMHYC2GN | B106: 8.85384E+11 | C106: Badgley Mischka Women's Wonder, Light Blue, 7.5 Medium | D106: Shoes | E106: Heels | F106: Badgley Mischka | G106: 7.5 | H106: Light Blue | I106: 1 | J106: 225 | K106: =I106*J106 -> 225
A107: B0FXYG3XNP | B107: 1.96522E+11 | C107: Johnny Was, Women's, The Janie Favorite Long Sleeve Midi Dress- Beckett, Beckett Blooms, X-Large | D107: Clothing | E107: Dresses | F107: Johnny Was | G107: XL | H107: Beckett Blooms | I107: 1 | J107: 225 | K107: =I107*J107 -> 225
A108: B0FJZPKGHV | B108: 1.92939E+11 | C108: GFORE Women Mg4+ O2 Gradient Skull & Tees Golf Shoes Snow/Multi 8.5 Medium | D108: Shoes | E108: Sneakers & Athletic Shoes | F108: GFORE | G108: 8.5 | H108: Snow/Multi | I108: 1 | J108: 225 | K108: =I108*J108 -> 225
A109: B0BH4HGL69 | B109: 5.05986E+12 | C109: Ted Baker Teyma Pale Green 8.5 M | D109: Shoes | E109: Heels | F109: Ted Baker | G109: 8.5 | H109: Pale Green | I109: 2 | J109: 225 | K109: =I109*J109 -> 450
A110: B0GCGSLCT6 | B110: 199153060693 | C110: Lauren Ralph Lauren Womens Bonded Rain Dark Navy SM One Size | D110: Clothing | E110: Coats & Outerwear | F110: Lauren Ralph Lauren | G110: SM | H110: Dark Navy | I110: 1 | J110: 220 | K110: =I110*J110 -> 220
A111: B0FP42Z262 | B111: 9.36052E+12 | C111: Seafolly, Women's, Bandwave Zip Front One-Piece, Black, 12 | D111: Clothing | E111: Swimwear | F111: Seafolly | G111: AUS 16 (US Women's 12) | H111: Ecru | I111: 1 | J111: 220 | K111: =I111*J111 -> 220
A112: B0FP469FTQ | C112: Seafolly, Women's, Marseille Square Neck One-Piece, Blue Indigo, 12 | D112: Clothing | E112: Swimwear | F112: Seafolly | G112: AUS 16 (US Women's 12) | H112: Blue Indigo | I112: 1 | J112: 220 | K112: =I112*J112 -> 220
A113: B01N6TBZJU | B113: 7297500624048 | C113: Naot Helm Bordeaux Leather/Violet Nubuck EU 39 (US Women's 8) M | D113: Shoes | E113: Boots | F113: Naot | G113: EU 39 (US Women's 8) | H113: Bordeaux Leather/Violet Nubuck | I113: 1 | J113: 219.95 | K113: =I113*J113 -> 219.95
A114: B0GYZS6BD2 | B114: 197367404944 | C114: Lilly Pulitzer, Womens, Wisteria Midi Dress, Resort White Marni Engineered Knit Midi Dress, 14 | D114: Clothing | E114: Dresses | F114: Lilly Pulitzer | G114: 14 | H114: Resort White Marni Engineered Knit Midi Dress | I114: 1 | J114: 218 | K114: =I114*J114 -> 218
A115: B0GHPQ58ZV | B115: 197367355727 | C115: Lilly Pulitzer Womens Zorella Shift Jackfruit Green Roseys Petals Overlay 6 One Size | D115: Clothing | E115: Dresses | F115: Lilly Pulitzer | G115: 6 | H115: Jackfruit Green Roseys Petals Overlay | I115: 1 | J115: 218 | K115: =I115*J115 -> 218
A116: B0G38LG79G | B116: 196115886384 | C116: 7 For All Mankind, Womens, Lady Vest, Moondust, Medium | D116: Clothing | E116: Coats & Outerwear | F116: 7 For All Mankind | G116: MD (US 8-10) | H116: Moondust | I116: 1 | J116: 218 | K116: =I116*J116 -> 218
A117: B0BKY2FL2G | B117: 195565875443 | C117: AG Men's Everett Slim Straight Fit Jeans in Crusade Crusade 30x32 | D117: Clothing | E117: Jeans | F117: AG Jeans | G117: 30 | H117: Crusade | I117: 1 | J117: 215 | K117: =I117*J117 -> 215
A118: B0BQ21SK65 | B118: 196450157996 | C118: Hudson Jeans Jodie Wide Leg in Stages Stages 30 32 | D118: Clothing | E118: Jeans | F118: Hudson Jeans | G118: 30 | H118: Stages | I118: 1 | J118: 215 | K118: =I118*J118 -> 215
A119: B01M4N603E | B119: 728815531723 | C119: SAS Guardian Slip-Resistant Comfort Lace Up Black 10.5 WW - Double Wide (EE-3E) | D119: Shoes | E119: Sneakers & Athletic Shoes | F119: SAS | G119: 10.5 | H119: Black | I119: 1 | J119: 214.95 | K119: =I119*J119 -> 214.95
A120: B0C74WWFCW | B120: 195979792442 | C120: SOREL Joan Now? Lace Black/Black 8.5 B (M) | D120: Shoes | E120: Boots | F120: SOREL | G120: 8.5 | H120: Black/Black | I120: 1 | J120: 210 | K120: =I120*J120 -> 210
A121: B000AV0MM0 | B121: 21033620959 | C121: Florsheim Como Imperial Slip-On Loafer Black Cabaret 5.5 D (M) | D121: Shoes | E121: Loafers | F121: Florsheim | G121: 5.5 | H121: Black Cabaret | I121: 1 | J121: 210 | K121: =I121*J121 -> 210
A122: B0FM9RN4DQ | B122: 8.49903E+11 | C122: French Sole Women's Jigsaw Camel 9 Medium, | D122: Shoes | E122: Flats | F122: French Sole | G122: 9 | H122: Camel | I122: 1 | J122: 210 | K122: =I122*J122 -> 210
A123: B0DHS87CKF | B123: 196299583185 | C123: Paige Men's Federal Transcend Slim Straight Fit Jeans in Herman Herman 40,33.5 Inch inseam | D123: Clothing | E123: Jeans | F123: Paige | G123: 40 | H123: Herman | I123: 1 | J123: 209 | K123: =I123*J123 -> 209
A124: B07FYMM3YG | B124: 728815992661 | C124: SAS Tour Mesh Black 8 M (M) (B) | D124: Shoes | E124: Sneakers & Athletic Shoes | F124: SAS | G124: 8 | H124: Black | I124: 1 | J124: 208.95 | K124: =I124*J124 -> 208.95
... A168: B0BRWHBM7B | B168: 840301528014 | C168: L*Space Coco One-Piece Classic Black/Cream SM | D168: Clothing | E168: Swimwear | F168: L*Space | G168: SM | H168: Black/Cream | I168: 1 | J168: 198 | K168: =I168*J168 -> 198
A169: B0B5P9D5T2 | C169: Commando Faux Leather Five-Pocket Pants SLG69 Black LG (12-14) | D169: Clothing | E169: Pants | F169: Commando | G169: LG (12-14) | H169: Black | I169: 1 | J169: 198 | K169: =I169*J169 -> 198
A170: B0BXYTVGWR | B170: 196387329527 | C170: Donald Pliner Dreww Black 8.5 M | D170: Shoes | E170: Heels | F170: Donald Pliner | G170: 8.5 | H170: Black | I170: 1 | J170: 198 | K170: =I170*J170 -> 198
A171: B0GJLS6TPT | B171: 198988261022 | C171: Splendid Womens Meadow Maxi Dress Honeysuckle SM (Women's 2-4) One Size | D171: Clothing | E171: Dresses | F171: Splendid | G171: SM (Women's 2-4) | H171: Honeysuckle | I171: 1 | J171: 198 | K171: =I171*J171 -> 198
A172: B0GKBS9NDR | B172: 197795308876 | C172: NIC+ZOE Womens, Mosaic Devon Dress, Blue Multi, Small | D172: Clothing | E172: Dresses | F172: NIC+ZOE | G172: SM | H172: Blue Multi | I172: 1 | J172: 198 | K172: =I172*J172 -> 198
A173: B0FDY7G5ZT | B173: 819247022108 | C173: THINK ROYLN, Women's, Jetset Wingman, Black Patent, One Size | D173: Bags | E173: Handbags | F173: THINK ROYLN | G173: One Size | H173: Black Patent | I173: 1 | J173: 198 | K173: =I173*J173 -> 198
A174: B0D7F3B4PW | B174: 194622723376 | C174: Faherty Mens Stretch Terry 5-Pocket Pants Stone 33x32 | D174: Clothing | E174: Pants | F174: Faherty | G174: 33 | H174: Stone | I174: 1 | J174: 198 | K174: =I174*J174 -> 198
A175: B0GJ311RV2 | B175: 840408282185 | C175: L*Space Women's Delano One-Piece Black Medium | D175: Clothing | E175: Swimwear | F175: L*Space | G175: MD | H175: Black | I175: 1 | J175: 198 | K175: =I175*J175 -> 198
A176: B0GK71TSH3 | B176: 7900378643959 | C176: Schutz, Women's, keefa raffia, white, 7, M | D176: Shoes | E176: Heels | F176: Schutz | G176: 7 | H176: White | I176: 1 | J176: 198 | K176: =I176*J176 -> 198
A177: B0G94ML7BF | B177: 1.97367E+11 | C177: Lilly Pulitzer Womens Kathy Pearl Dress UPF 50+ Putting Green Hannah Golf 4 One Size | D177: Clothing | E177: Dresses | F177: Lilly Pulitzer | G177: 4 | H177: Putting Green Hannah Golf | I177: 1 | J177: 198 | K177: =I177*J177 -> 198
A178: B0DJCGVB7G | B178: 196395507634 | C178: COACH Womens Samantha Leather Pumps Pale Blush 7.5 Medium | D178: Shoes | E178: Heels | F178: COACH | G178: 7.5 | H178: Pale Blush | I178: 1 | J178: 195 | K178: =I178*J178 -> 195
A179: B0C2QLLZQB | B179: 194891399876 | C179: ECCO London Apron Toe Slip-On Black EU 44 (US Men's 10-10.5) M | D179: Shoes | E179: Loafers | F179: ECCO | G179: EU 44 (US Men's 10-10.5) | H179: Black | I179: 1 | J179: 195 | K179: =I179*J179 -> 195
A180: B0B66Q9GD5 | B180: 194950456977 | C180: MARC JOSEPH NEW YORK Park Ave Flat Red Nappa/Patent 9.5 M | D180: Shoes | E180: Flats | F180: Marc Joseph New York | G180: 9.5 | H180: Red Nappa/Patent | I180: 1 | J180: 195 | K180: =I180*J180 -> 195
A181: B0GF94QKP6 | B181: 840520402447 | C181: Appaman Boys 2-Piece Stretchy Mod Suit (Toddler/Little Kid/Big Kid) Pacific Blue 12 Years Big Kid | D181: Clothing | E181: Suits | F181: Appaman Kids | G181: 12 Big Kid | H181: Pacific Blue | I181: 1 | J181: 195 | K181: =I181*J181 -> 195
... A209: B0BN17R8VF | B209: 190667750605 | C209: Show Me Your Mumu Sonnett Maxi Dress Beachy Blossom SM | D209: Clothing | E209: Dresses | F209: Show Me Your Mumu | G209: SM | H209: Beachy Blossom | I209: 1 | J209: 188 | K209: =I209*J209 -> 188
A210: B0GKJK3XJQ | C210: Lilly Pulitzer, Womens, Aemma Ruffle One Piece, Multi Lilly Garden, 10 | D210: Clothing | E210: Swimwear | F210: Lilly Pulitzer | G210: 10 | H210: Multi Lilly Garden | I210: 1 | J210: 188 | K210: =I210*J210 -> 188
A211: B0GZ474R5B | B211: 197367394962 | C211: Lilly Pulitzer, Womens, Sleeveless Rosee Dress, Resort White Marni Engineered Knit Dress, Medium | D211: Clothing | E211: Dresses | F211: Lilly Pulitzer | G211: MD | H211: Resort White Marni Engineered Knit Dress | I211: 1 | J211: 188 | K211: =I211*J211 -> 188
A212: B0GVPTYMWD | B212: 198988445125 | C212: Splendid Womens Tyler Midi Dress Light Fawn SM (Women's 2-4) One Size | D212: Clothing | E212: Dresses | F212: Splendid | G212: SM (Women's 2-4) | H212: Light Fawn | I212: 1 | J212: 188 | K212: =I212*J212 -> 188
A213: B0GX7XH6W6 | B213: 197367383614 | C213: Lilly Pulitzer, Womens, Ester One-Piece, Cherry Blossom Pink, 6 | D213: Clothing | E213: Swimwear | F213: Lilly Pulitzer | G213: 6 | H213: Cherry Blossom Pink | I213: 1 | J213: 188 | K213: =I213*J213 -> 188
A214: B0BRWHDMLF | B214: 810091463758 | C214: THINK ROYLN Jetset Wingman - Large Pearl Black One Size | D214: Bags | E214: Handbags | F214: THINK ROYLN | G214: One Size | H214: Pearl Black | I214: 1 | J214: 188 | K214: =I214*J214 -> 188
A215: B0G73Y7T8K | C215: HOBO, Women's, Darcy Carry-All Crossbody, Pale Flax, One Size | D215: Bags | E215: Handbags | F215: HOBO | G215: One Size | H215: Pale Flax | I215: 1 | J215: 188 | K215: =I215*J215 -> 188
A216: B0G93S8QVW | B216: 1.97367E+11 | C216: Lilly Pulitzer, Womens, Elsa Top, Confetti Pink Rosanna, Large | D216: Clothing | E216: Shirts & Tops | F216: Lilly Pulitzer | G216: LG (Women's 12-14) | H216: Confetti Pink Rosanna | I216: 1 | J216: 188 | K216: =I216*J216 -> 188
A217: B0FPLD5VPB | B217: 1.95725E+11 | C217: Avec Les Filles Womens Floral Quilted Heritage Jacket, Vintage Khaki, Small | D217: Clothing | E217: Coats & Outerwear | F217: Avec Les Filles | G217: SM | H217: Vintage Khaki | I217: 1 | J217: 188 | K217: =I217*J217 -> 188
A218: B0G8TFSJ75 | B218: 1.97367E+11 | C218: Lilly Pulitzer, Womens, Aemma Ruffle One Piece, Cherry Blossom Pink Seersucker Stripe, 16 | D218: Clothing | E218: Swimwear | F218: Lilly Pulitzer | G218: 16 | H218: Cherry Blossom Pink Seersucker Stripe | I218: 1 | J218: 188 | K218: =I218*J218 -> 188
A219: B0FH5VX3VK | B219: 1.95725E+11 | C219: Avec Les Filles Womens, Funnel Neck Maxi Trench, Sage, Medium | D219: Clothing | E219: Coats & Outerwear | F219: Avec Les Filles | G219: MD | H219: Sage | I219: 1 | J219: 188 | K219: =I219*J219 -> 188
A220: B0BMJQ3J3X | B220: 195019568525 | C220: Merrell Coldpack 3 Thermo Mid Zip Waterproof Black 8.5 M | D220: Shoes | E220: Boots | F220: Merrell | G220: 8.5 | H220: Black | I220: 1 | J220: 185 | K220: =I220*J220 -> 185
A221: B0H2JYM7SF | B221: 199023355348 | C221: ASICS Womens, GEL-Kayano(R) 33 Platinum, Platinum/Glow Green, 6.5, Medium | D221: Shoes | E221: Sneakers & Athletic Shoes | F221: ASICS | G221: 6.5 | H221: Platinum/Glow Green | I221: 1 | J221: 185 | K221: =I221*J221 -> 185
A222: B0GFCWYTC6 | B222: 198929358286 | C222: FootJoy Womens Pro/Sl Pristine/Black/Gum 8 Medium | D222: Shoes | E222: Sneakers & Athletic Shoes | F222: FootJoy | G222: 8 | H222: Pristine/Black/Gum | I222: 1 | J222: 185 | K222: =I222*J222 -> 185
A223: B01MCWTHX0 | B223: 728815469071 | C223: SAS Viva Slip On Comfort Loafer Teak 10.5 W - Wide (C) | D223: Shoes | E223: Loafers | F223: SAS | G223: 10.5 | H223: Teak | I223: 1 | J223: 184.95 | K223: =I223*J223 -> 184.95
A224: B079RLDDXZ | B224: 728815952061 | C224: SAS Womens Isabel Black/Black Patent 9 W - Wide (C) | D224: Shoes | E224: Heels | F224: SAS | G224: 9 | H224: Black/Black Patent | I224: 1 | J224: 184.95 | K224: =I224*J224 -> 184.95
A225: B08XFXMHTF | B225: 191190848371 | C225: KEEN Revel IV Chelsea Black/Black 14 D (M) | D225: Shoes | E225: Boots | F225: KEEN | G225: 14 | H225: Black/Black | I225: 1 | J225: 180 | K225: =I225*J225 -> 180
A226: B07MVLC3LP | B226: 190665239782 | C226: Dr. Martens 8053 Platform Black UK 6 (US Men's 7, US Women's 8) Medium | D226: Shoes | E226: Oxfords | F226: Dr. Martens | G226: UK 6 (US Men's 7, US Women's 8 | H226: Black | I226: 1 | J226: 180 | K226: =I226*J226 -> 180
A227: B0B7BLZRQM | B227: 3611820797420 | C227: VEJA Urca White/Natural 2 EU 41 (US Women's 10) M | D227: Shoes | E227: Sneakers & Athletic Shoes | F227: VEJA | G227: EU 41 (US Women's 10) | H227: White/Natural 2 | I227: 1 | J227: 180 | K227: =I227*J227 -> 180
...
