Workbook

Sheet Summary
A1: By Category
A2: Category | B2: Units | C2: Retail Value
A3: Shoes | B3: =SUMIFS(Master!$I$2:$I$3296,Master!$D$2:$D$3296,$A3) -> 4515 | C3: =SUMIFS(Master!$K$2:$K$3296,Master!$D$2:$D$3296,$A3) -> 408897.28
A4: Clothing | B4: =SUMIFS(Master!$I$2:$I$3296,Master!$D$2:$D$3296,$A4) -> 1119 | C4: =SUMIFS(Master!$K$2:$K$3296,Master!$D$2:$D$3296,$A4) -> 91580.92
A5: Bags | B5: =SUMIFS(Master!$I$2:$I$3296,Master!$D$2:$D$3296,$A5) -> 35 | C5: =SUMIFS(Master!$K$2:$K$3296,Master!$D$2:$D$3296,$A5) -> 4191.44
A6: Accessories | B6: =SUMIFS(Master!$I$2:$I$3296,Master!$D$2:$D$3296,$A6) -> 22 | C6: =SUMIFS(Master!$K$2:$K$3296,Master!$D$2:$D$3296,$A6) -> 1028.55
A7: Jewelry | B7: =SUMIFS(Master!$I$2:$I$3296,Master!$D$2:$D$3296,$A7) -> 9 | C7: =SUMIFS(Master!$K$2:$K$3296,Master!$D$2:$D$3296,$A7) -> 654
A8: Eyewear | B8: =SUMIFS(Master!$I$2:$I$3296,Master!$D$2:$D$3296,$A8) -> 3 | C8: =SUMIFS(Master!$K$2:$K$3296,Master!$D$2:$D$3296,$A8) -> 489
A9: Watches | B9: =SUMIFS(Master!$I$2:$I$3296,Master!$D$2:$D$3296,$A9) -> 1 | C9: =SUMIFS(Master!$K$2:$K$3296,Master!$D$2:$D$3296,$A9) -> 150
A10: Total | B10: =SUM(B3:B9) -> 5704 | C10: =SUM(C3:C9) -> 506991.19
A12: Top 10 Subcategories
A13: Subcategory | B13: Units | C13: Retail Value
A14: Sneakers & Athletic Shoes | B14: =SUMIFS(Master!$I$2:$I$3296,Master!$E$2:$E$3296,$A14) -> 1601 | C14: =SUMIFS(Master!$K$2:$K$3296,Master!$E$2:$E$3296,$A14) -> 120976.01
A15: Heels | B15: =SUMIFS(Master!$I$2:$I$3296,Master!$E$2:$E$3296,$A15) -> 949 | C15: =SUMIFS(Master!$K$2:$K$3296,Master!$E$2:$E$3296,$A15) -> 102335.96
A16: Sandals | B16: =SUMIFS(Master!$I$2:$I$3296,Master!$E$2:$E$3296,$A16) -> 1216 | C16: =SUMIFS(Master!$K$2:$K$3296,Master!$E$2:$E$3296,$A16) -> 98595.95
A17: Boots | B17: =SUMIFS(Master!$I$2:$I$3296,Master!$E$2:$E$3296,$A17) -> 187 | C17: =SUMIFS(Master!$K$2:$K$3296,Master!$E$2:$E$3296,$A17) -> 32702.77
A18: Loafers | B18: =SUMIFS(Master!$I$2:$I$3296,Master!$E$2:$E$3296,$A18) -> 174 | C18: =SUMIFS(Master!$K$2:$K$3296,Master!$E$2:$E$3296,$A18) -> 19974.46
A19: Dresses | B19: =SUMIFS(Master!$I$2:$I$3296,Master!$E$2:$E$3296,$A19) -> 128 | C19: =SUMIFS(Master!$K$2:$K$3296,Master!$E$2:$E$3296,$A19) -> 16430
A20: Flats | B20: =SUMIFS(Master!$I$2:$I$3296,Master!$E$2:$E$3296,$A20) -> 176 | C20: =SUMIFS(Master!$K$2:$K$3296,Master!$E$2:$E$3296,$A20) -> 16486.75
A21: Jeans | B21: =SUMIFS(Master!$I$2:$I$3296,Master!$E$2:$E$3296,$A21) -> 116 | C21: =SUMIFS(Master!$K$2:$K$3296,Master!$E$2:$E$3296,$A21) -> 15047.85
A22: Swimwear | B22: =SUMIFS(Master!$I$2:$I$3296,Master!$E$2:$E$3296,$A22) -> 143 | C22: =SUMIFS(Master!$K$2:$K$3296,Master!$E$2:$E$3296,$A22) -> 12284
A23: Shirts & Tops | B23: =SUMIFS(Master!$I$2:$I$3296,Master!$E$2:$E$3296,$A23) -> 212 | C23: =SUMIFS(Master!$K$2:$K$3296,Master!$E$2:$E$3296,$A23) -> 11266.83
A25: Top 15 Brands
A26: Brand | B26: Units | C26: Retail Value
A27: Aerosoles | B27: =SUMIFS(Master!$I$2:$I$3296,Master!$F$2:$F$3296,$A27) -> 148 | C27: =SUMIFS(Master!$K$2:$K$3296,Master!$F$2:$F$3296,$A27) -> 19780
A28: Sam Edelman | B28: =SUMIFS(Master!$I$2:$I$3296,Master!$F$2:$F$3296,$A28) -> 105 | C28: =SUMIFS(Master!$K$2:$K$3296,Master!$F$2:$F$3296,$A28) -> 15700
A29: Steve Madden | B29: =SUMIFS(Master!$I$2:$I$3296,Master!$F$2:$F$3296,$A29) -> 168 | C29: =SUMIFS(Master!$K$2:$K$3296,Master!$F$2:$F$3296,$A29) -> 15651.21
A30: SOREL | B30: =SUMIFS(Master!$I$2:$I$3296,Master!$F$2:$F$3296,$A30) -> 134 | C30: =SUMIFS(Master!$K$2:$K$3296,Master!$F$2:$F$3296,$A30) -> 14945
A31: Naturalizer | B31: =SUMIFS(Master!$I$2:$I$3296,Master!$F$2:$F$3296,$A31) -> 120 | C31: =SUMIFS(Master!$K$2:$K$3296,Master!$F$2:$F$3296,$A31) -> 14136.89
A32: Rockport | B32: =SUMIFS(Master!$I$2:$I$3296,Master!$F$2:$F$3296,$A32) -> 124 | C32: =SUMIFS(Master!$K$2:$K$3296,Master!$F$2:$F$3296,$A32) -> 14522.8
A33: adidas Kids | B33: =SUMIFS(Master!$I$2:$I$3296,Master!$F$2:$F$3296,$A33) -> 207 | C33: =SUMIFS(Master!$K$2:$K$3296,Master!$F$2:$F$3296,$A33) -> 12244
A34: Lucky Brand | B34: =SUMIFS(Master!$I$2:$I$3296,Master!$F$2:$F$3296,$A34) -> 116 | C34: =SUMIFS(Master!$K$2:$K$3296,Master!$F$2:$F$3296,$A34) -> 10484.5
A35: New Balance Kids | B35: =SUMIFS(Master!$I$2:$I$3296,Master!$F$2:$F$3296,$A35) -> 172 | C35: =SUMIFS(Master!$K$2:$K$3296,Master!$F$2:$F$3296,$A35) -> 10117.93
A36: SKECHERS | B36: =SUMIFS(Master!$I$2:$I$3296,Master!$F$2:$F$3296,$A36) -> 171 | C36: =SUMIFS(Master!$K$2:$K$3296,Master!$F$2:$F$3296,$A36) -> 9776.84
A37: Blowfish Malibu | B37: =SUMIFS(Master!$I$2:$I$3296,Master!$F$2:$F$3296,$A37) -> 125 | C37: =SUMIFS(Master!$K$2:$K$3296,Master!$F$2:$F$3296,$A37) -> 9398.75
A38: LifeStride | B38: =SUMIFS(Master!$I$2:$I$3296,Master!$F$2:$F$3296,$A38) -> 119 | C38: =SUMIFS(Master!$K$2:$K$3296,Master!$F$2:$F$3296,$A38) -> 8803.95
... A41: Anne Klein | B41: =SUMIFS(Master!$I$2:$I$3296,Master!$F$2:$F$3296,$A41) -> 82 | C41: =SUMIFS(Master!$K$2:$K$3296,Master!$F$2:$F$3296,$A41) -> 6925

Sheet Master
A1: Item ID | B1: UPC | C1: Description | D1: Category | E1: Subcategory | F1: Brand | G1: Size | H1: Color | I1: Qty | J1: MSRP | K1: TTL MSRP
A2: B07TNX4D3S | B2: 612025013349 | C2: Stuart Weitzman The 5050 Boot Black Nappa/Stretch Gabardine 4.5 M | D2: Shoes | E2: Boots | F2: Stuart Weitzman | G2: 4.5 | H2: Black Nappa/Stretch Gabardine | I2: 2 | J2: 795 | K2: =I2*J2 -> 1590
A3: B0CCMHMP5Z | B3: 800558152288 | C3: La Canadienne Goup Black Leather 9 M (B) | D3: Shoes | E3: Boots | F3: La Canadienne | G3: 9 | H3: Black Leather | I3: 1 | J3: 635 | K3: =I3*J3 -> 635
A4: B0GHB1RS9R | B4: 8445433747696 | C4: Magnanni Men's Raulo Tabaco 13 Medium | D4: Shoes | E4: Loafers | F4: Magnanni | G4: 13 | H4: Tabaco | I4: 1 | J4: 625 | K4: =I4*J4 -> 625
A5: B0GP95G4V3 | B5: 199689252067 | C5: Stuart Weitzman Women's Dayna Platform Slide Walnut 6 Medium | D5: Shoes | E5: Heels | F5: Stuart Weitzman | G5: 6 | H5: Walnut | I5: 1 | J5: 550 | K5: =I5*J5 -> 550
A6: B0GP69LJJL | B6: 199689098795 | C6: Stuart Weitzman Women's Babette Mary Jane 85 Linen 8 Medium | D6: Shoes | E6: Heels | F6: Stuart Weitzman | G6: 8 | H6: Linen | I6: 1 | J6: 525 | K6: =I6*J6 -> 525
A7: B0GNB4BGVM | B7: 198684653848 | C7: Stuart Weitzman Womens Bareitall Slides 85 Boho Tan 8.5 Medium | D7: Shoes | E7: Heels | F7: Stuart Weitzman | G7: 8.5 | H7: Boho Tan | I7: 1 | J7: 495 | K7: =I7*J7 -> 495
A8: B07RSZ3PJB | B8: 8052705902679 | C8: Zamberlan 5020 Extinguisher II WLF Black EU 45 (Men's 10.5) D (M) | D8: Shoes | E8: Hiking | F8: Zamberlan | G8: EU 45 (Men's 10.5) | H8: Black | I8: 1 | J8: 450 | K8: =I8*J8 -> 450
A9: B00EL6S8VM | B9: 612025263362 | C9: Stuart Weitzman Gladiator Black Nappa Leather 8 W | D9: Shoes | E9: Sandals | F9: Stuart Weitzman | G9: 8 | H9: Black Nappa Leather | I9: 1 | J9: 445 | K9: =I9*J9 -> 445
A10: B0B7NMRRBD | B10: 196134089377 | C10: Volcom Longo GORE-TEX Jacket Black XS | D10: Clothing | E10: Coats & Outerwear | F10: Volcom Snow | G10: XS | H10: Black | I10: 1 | J10: 430 | K10: =I10*J10 -> 430
A11: B07W81G1JD | B11: 888242924366 | C11: Barbour Barbour Beadnell Wax Jacket Sage 16 | D11: Clothing | E11: Coats & Outerwear | F11: Barbour | G11: 16 | H11: Sage | I11: 1 | J11: 415 | K11: =I11*J11 -> 415
A12: B0CS3YKQTK | B12: 194655465250 | C12: Bruno Magli Mens Maioco Penny Black 8.5 Wide | D12: Shoes | E12: Loafers | F12: Bruno Magli | G12: EU 41.5 (US Men's 8.5) | H12: Black | I12: 1 | J12: 395 | K12: =I12*J12 -> 395
A13: B0DQP2MN9J | B13: 198535614493 | C13: Veronica Beard Womens Sylvie 75 Wheat Beige Leather 11 Medium | D13: Shoes | E13: Heels | F13: Veronica Beard | G13: 11 | H13: Wheat Beige Leather | I13: 1 | J13: 395 | K13: =I13*J13 -> 395
... A21: B0G4F8ZM22 | B21: 5.05476E+12 | C21: LK Bennett Women's Sally Square Toe Courts, Black, 8 Medium | D21: Shoes | E21: Heels | F21: LK Bennett | G21: EU 38 (US Women's 8) | H21: Black | I21: 1 | J21: 350 | K21: =I21*J21 -> 350
A22: B0DSGHBT48 | C22: Kate Spade New York Womens Liv Crossbody Bag, Cavern Clay, One size | D22: Bags | E22: Handbags | F22: Kate Spade New York | G22: One Size | H22: Cavern Clay | I22: 1 | J22: 348 | K22: =I22*J22 -> 348
A23: B0BL35MVL6 | B23: 1.96597E+11 | C23: Joie Courtney Navy Blazer Multi LG (US 12-14) | D23: Clothing | E23: Dresses | F23: Joie | G23: LG (US 12-14) | H23: Navy Blazer Multi | I23: 1 | J23: 348 | K23: =I23*J23 -> 348
A24: B0BC1QNXN1 | B24: 7.34001E+12 | C24: Swedish Hasbeens Fluff Clog Nature EU 37 (US Women's 7) B (M) | D24: Shoes | E24: Clogs | F24: Swedish Hasbeens | G24: EU 37 (US Women's 7) | H24: Nature | I24: 1 | J24: 340 | K24: =I24*J24 -> 340
A25: B0DJHHML11 | B25: 5063320383685 | C25: AllSaints Womens Antonia Cardigan, Black, Large | D25: Clothing | E25: Sweaters | F25: AllSaints | G25: LG | H25: Black | I25: 1 | J25: 329 | K25: =I25*J25 -> 329
A26: B0G6GJT5MM | B26: 6.04599E+11 | C26: HOBO, Women's, Sheila Medium Satchel, Brown Sugar, One Size | D26: Bags | E26: Handbags | F26: HOBO | G26: One Size | H26: Brown Sugar | I26: 1 | J26: 328 | K26: =I26*J26 -> 328
A27: B0DVY8QBV9 | B27: 197865353140 | C27: Tory Burch Women's Double T Buckle Heel Sandals 85 mm Shiny Silver 10 Medium | D27: Shoes | E27: Heels | F27: Tory Burch | G27: 10 | H27: Shiny Silver | I27: 1 | J27: 325 | K27: =I27*J27 -> 325
A28: B0C9DNQZT9 | B28: 195171721585 | C28: Allen Edmonds Oliver Stretch Lace Slip-On Sneaker White 10.5 D (M) | D28: Shoes | E28: Sneakers & Athletic Shoes | F28: Allen Edmonds | G28: 10.5 | H28: White | I28: 1 | J28: 325 | K28: =I28*J28 -> 325
A29: B0BGZLXHK6 | B29: 8.05152E+12 | C29: See by Chloe Glyn Espadrille Wedge Light Gold 1 EU 41 (US Women's 11) M | D29: Shoes | E29: Heels | F29: See by Chloe | G29: EU 41 (US Women's 11) | H29: Light Gold 1 | I29: 1 | J29: 325 | K29: =I29*J29 -> 325
A30: B0DF36P552 | B30: 196134778028 | C30: Volcom Men's Nightbreaker 20K Jacket, Grey, Small | D30: Clothing | E30: Coats & Outerwear | F30: Volcom Snow | G30: SM | H30: Grey | I30: 1 | J30: 320 | K30: =I30*J30 -> 320
A31: B0FX378YXG | B31: 603429093433 | C31: Maui Jim, Unisex, Aliali, Matte Dark Havana/Hcl Bronze Polarized, Large | D31: Eyewear | E31: Sunglasses | F31: Maui Jim | G31: One Size | H31: Matte Dark Havana/Hcl Bronze Polarized | I31: 1 | J31: 309 | K31: =I31*J31 -> 309
A32: B0DZ8H6FR5 | B32: 197865458760 | C32: Tory Burch, Women, The Boaty, New Navy/Tan, 10, Medium | D32: Shoes | E32: Boat Shoes | F32: Tory Burch | G32: 10 | H32: New Navy/Tan | I32: 1 | J32: 300 | K32: =I32*J32 -> 300
A33: B09BGTQLQ8 | B33: 736714752347 | C33: Allen Edmonds Courtside Black 10 D (M) | D33: Shoes | E33: Sneakers & Athletic Shoes | F33: Allen Edmonds | G33: 10 | H33: Black | I33: 1 | J33: 300 | K33: =I33*J33 -> 300
A34: B0F2GW9JNV | B34: 191422575617 | C34: Rebecca Minkoff Womens Crosby Bucket Vintage/Black One Size One Size | D34: Bags | E34: Handbags | F34: Rebecca Minkoff | G34: One Size | H34: Vintage/Black | I34: 1 | J34: 298 | K34: =I34*J34 -> 298
... A85: B0GCJ5PTFY | B85: 1.99153E+11 | C85: Lauren Ralph Lauren Womens Anorak Contrast Hood White SM One Size | D85: Clothing | E85: Coats & Outerwear | F85: Lauren Ralph Lauren | G85: SM | H85: White | I85: 1 | J85: 240 | K85: =I85*J85 -> 240
A86: B06XGC415B | C86: UGG Bailey Bow Tall II Black 8 B (M) | D86: Shoes | E86: Boots | F86: UGG | G86: 8 | H86: Black | I86: 1 | J86: 239.95 | K86: =I86*J86 -> 239.95
A87: B09QKTP3VN | B87: 191993566656 | C87: Mephisto Rebeca Perf Light Grey Bucksoft EU 37 (US Women's 7) B (M) | D87: Shoes | E87: Sneakers & Athletic Shoes | F87: Mephisto | G87: EU 37 (US Women's 7) | H87: Light Grey Bucksoft | I87: 1 | J87: 239 | K87: =I87*J87 -> 239
A88: B0D84Z6Q1G | B88: 196299542915 | C88: Paige Women's Claudine Raw Hem Amalie 28 | D88: Clothing | E88: Jeans | F88: Paige | G88: 28 | H88: Amalie | I88: 1 | J88: 239 | K88: =I88*J88 -> 239
A89: B0BMG5D5NK | B89: 885383284311 | C89: Badgley Mischka Remi Nude 9 M | D89: Shoes | E89: Heels | F89: Badgley Mischka | G89: 9 | H89: Nude | I89: 1 | J89: 235 | K89: =I89*J89 -> 235
A90: B08G9N68X1 | B90: 885383197666 | C90: Badgley Mischka Remi Silver 7 M | D90: Shoes | E90: Heels | F90: Badgley Mischka | G90: 7 | H90: Silver | I90: 1 | J90: 235 | K90: =I90*J90 -> 235
A91: B0GK2W8QFR | B91: 885383836626 | C91: Badgley Mischka Women Yena White Satin 9 Medium | D91: Shoes | E91: Heels | F91: Badgley Mischka | G91: 9 | H91: White Satin | I91: 1 | J91: 235 | K91: =I91*J91 -> 235
A92: B0G233G55T | B92: 6.51458E+11 | C92: Bed Stu Women Perfect Nectar Lux 7 Medium | D92: Shoes | E92: Sandals | F92: Bed Stu | G92: 7 | H92: Nectar Lux | I92: 1 | J92: 235 | K92: =I92*J92 -> 235
A93: B01MFAKG3L | B93: 728815441527 | C93: SAS Side Gore Slip On Comfort Loafer | D93: Shoes | E93: Shoes (unspecified) | F93: SAS | G93: 10.5 Narrow | H93: Black | I93: 1 | J93: 234.95 | K93: =I93*J93 -> 234.95
A94: B09F67QXTW | B94: 191837262775 | C94: XSCAPE Short Scuba Off The Shoulder Dress with Ruffle Midnight 6 | D94: Clothing | E94: Dresses | F94: XSCAPE | G94: 6 | H94: Midnight | I94: 1 | J94: 229 | K94: =I94*J94 -> 229
A95: B09F67K9RN | B95: 191837262768 | C95: XSCAPE Short Scuba Off The Shoulder Dress with Ruffle Midnight 4 | D95: Clothing | E95: Dresses | F95: XSCAPE | G95: 4 | H95: Midnight | I95: 1 | J95: 229 | K95: =I95*J95 -> 229
A96: B091V7VC9H | B96: 190069654266 | C96: Blondo Sierra Waterproof Black 6 M | D96: Shoes | E96: Boots | F96: Blondo | G96: 6 | H96: Black | I96: 1 | J96: 229 | K96: =I96*J96 -> 229
A97: B0B7RJ7LT2 | C97: 7 For All Mankind Megaflare in Sunbeam Sunbeam 30 | D97: Clothing | E97: Jeans | F97: 7 For All Mankind | G97: 30 | H97: Sunbeam | I97: 1 | J97: 228 | K97: =I97*J97 -> 228
...
